BEGIN:VCALENDAR
VERSION:2.0
X-WR-CALNAME: Cory Seznec
PRODID:GIGPRESS 2.0 WORDPRESS PLUGIN
CALSCALE:GREGORIAN
X-WR-TIMEZONE:Etc/GMT
METHOD:PUBLISH
BEGIN:VTIMEZONE
TZID:GMT
BEGIN:STANDARD
DTSTART:20071028T010000
TZOFFSETTO:+0000
TZOFFSETFROM:+0000
END:STANDARD
END:VTIMEZONE
BEGIN:VEVENT
SUMMARY:Cory Seznec at Claiborne Village Hall
DESCRIPTION:All Ages
LOCATION:Claiborne Village Hall\, 10403 N Claiborne Rd\, Claiborne\, US
UID:20260517T160000Z-529-cory@coryseznec.com
URL:https://www.coryseznec.com/dates
DTSTART;VALUE=DATE-TIME;TZID=GMT:20260517T160000Z
DTEND;VALUE=DATE-TIME;TZID=GMT:20260517T160000Z
DTSTAMP:20260423T115544Z
END:VEVENT
BEGIN:VEVENT
SUMMARY:Cory Seznec at Rams Head On Stage
DESCRIPTION:Notes: With special guests\, including Michael Ward-Bergeman on accordion! All Ages
LOCATION:Rams Head On Stage\, Annapolis\, US
UID:20260519T200000Z-523-cory@coryseznec.com
URL:https://www.coryseznec.com/dates
DTSTART;VALUE=DATE-TIME;TZID=GMT:20260519T200000Z
DTEND;VALUE=DATE-TIME;TZID=GMT:20260519T200000Z
DTSTAMP:20260423T115544Z
END:VEVENT
BEGIN:VEVENT
SUMMARY:Cory Seznec at Millwood Guitar Week
DESCRIPTION:All Ages
LOCATION:Millwood Guitar Week\, Millwood\, US
UID:20260606T160000Z-519-cory@coryseznec.com
URL:https://www.coryseznec.com/dates
DTSTART;VALUE=DATE-TIME;TZID=GMT:20260606T160000Z
DTEND;VALUE=DATE-TIME;TZID=GMT:20260612T160000Z
DTSTAMP:20260423T115544Z
END:VEVENT
BEGIN:VEVENT
SUMMARY:Cory Seznec at Swannanoa Gathering
DESCRIPTION:All Ages
LOCATION:Swannanoa Gathering\, Warren Wilson College\, Asheville\, US
UID:20260726T160000Z-518-cory@coryseznec.com
URL:https://www.coryseznec.com/dates
DTSTART;VALUE=DATE-TIME;TZID=GMT:20260726T160000Z
DTEND;VALUE=DATE-TIME;TZID=GMT:20260801T160000Z
DTSTAMP:20260423T115544Z
END:VEVENT
BEGIN:VEVENT
SUMMARY:Cory Seznec at Maison de la musique de Nanterre
DESCRIPTION:Notes: Trio avec Lucas Henri et Paul Héroux All Ages
LOCATION:Maison de la musique de Nanterre\, 8\, rue des anciennes mairies\, Nanterre\, FR
UID:20270422T193000Z-524-cory@coryseznec.com
URL:https://www.coryseznec.com/dates
DTSTART;VALUE=DATE-TIME;TZID=GMT:20270422T193000Z
DTEND;VALUE=DATE-TIME;TZID=GMT:20270422T193000Z
DTSTAMP:20260423T115544Z
END:VEVENT
BEGIN:VEVENT
SUMMARY:Cory Seznec at Philharmonie de Paris
DESCRIPTION:Notes: Conference on the banjo All Ages
LOCATION:Philharmonie de Paris\, 221 av. Jean-Jaurès\, Paris\, FR
UID:20270526T103000Z-526-cory@coryseznec.com
URL:https://www.coryseznec.com/dates
DTSTART;VALUE=DATE-TIME;TZID=GMT:20270526T103000Z
DTEND;VALUE=DATE-TIME;TZID=GMT:20270526T103000Z
DTSTAMP:20260423T115544Z
END:VEVENT
BEGIN:VEVENT
SUMMARY:Cory Seznec at Philharmonie de Paris
DESCRIPTION:Notes: Masterclass on the banjo All Ages
LOCATION:Philharmonie de Paris\, 221 av. Jean-Jaurès\, Paris\, FR
UID:20270527T140000Z-527-cory@coryseznec.com
URL:https://www.coryseznec.com/dates
DTSTART;VALUE=DATE-TIME;TZID=GMT:20270527T140000Z
DTEND;VALUE=DATE-TIME;TZID=GMT:20270527T140000Z
DTSTAMP:20260423T115544Z
END:VEVENT
BEGIN:VEVENT
SUMMARY:Cory Seznec at Philharmonie de Paris (Le Studio)
DESCRIPTION:Notes: Concert "Popular Plectres":  Marc Desmons \, conducting  Tomás Bordalejo \, guitar  Florentino Calvo \, mandolin\, mandolin\, mandole\, lute\, bandola  Cory Seznec \, banjo  Harugin Sawada \, lute\, shamisen  Khalil Chekir \, cithare\, quanun All Ages
LOCATION:Philharmonie de Paris (Le Studio)\, 221 Av. Jean Jaurès\, Paris\, FR
UID:20270529T190000Z-525-cory@coryseznec.com
URL:https://www.coryseznec.com/dates
DTSTART;VALUE=DATE-TIME;TZID=GMT:20270529T190000Z
DTEND;VALUE=DATE-TIME;TZID=GMT:20270529T190000Z
DTSTAMP:20260423T115544Z
END:VEVENT
END:VCALENDAR